BEGIN:VCALENDAR
VERSION:1.0
PRODID:SeedQuest
TZ:+0
BEGIN:VEVENT
SUMMARY:Online Course on Plant Breeding for Drought Tolerance
DESCRIPTION:
DTSTART:20170821T080000
LOCATION:
URL;VALUE=URI:
DTEND:20171215T190000
END:VEVENT
END:VCALENDAR