BEGIN:VCALENDAR
VERSION:1.0
PRODID:SeedQuest
TZ:+0
BEGIN:VEVENT
SUMMARY:GREAT Gender-responsive Cereal Grain Breeding Course
DESCRIPTION:
DTSTART:20170807T080000
LOCATION:
URL;VALUE=URI:
DTEND:20180119T190000
END:VEVENT
END:VCALENDAR